BEGIN:VCALENDAR
VERSION:2.0
PRODID:-//Morrill &amp; Fiedler - ECPv6.15.19//NONSGML v1.0//EN
CALSCALE:GREGORIAN
METHOD:PUBLISH
X-ORIGINAL-URL:https://smorrill.com
X-WR-CALDESC:Events for Morrill &amp; Fiedler
REFRESH-INTERVAL;VALUE=DURATION:PT1H
X-Robots-Tag:noindex
X-PUBLISHED-TTL:PT1H
BEGIN:VTIMEZONE
TZID:America/Chicago
BEGIN:DAYLIGHT
TZOFFSETFROM:-0600
TZOFFSETTO:-0500
TZNAME:CDT
DTSTART:20250309T080000
END:DAYLIGHT
BEGIN:STANDARD
TZOFFSETFROM:-0500
TZOFFSETTO:-0600
TZNAME:CST
DTSTART:20251102T070000
END:STANDARD
BEGIN:DAYLIGHT
TZOFFSETFROM:-0600
TZOFFSETTO:-0500
TZNAME:CDT
DTSTART:20260308T080000
END:DAYLIGHT
BEGIN:STANDARD
TZOFFSETFROM:-0500
TZOFFSETTO:-0600
TZNAME:CST
DTSTART:20261101T070000
END:STANDARD
BEGIN:DAYLIGHT
TZOFFSETFROM:-0600
TZOFFSETTO:-0500
TZNAME:CDT
DTSTART:20270314T080000
END:DAYLIGHT
BEGIN:STANDARD
TZOFFSETFROM:-0500
TZOFFSETTO:-0600
TZNAME:CST
DTSTART:20271107T070000
END:STANDARD
END:VTIMEZONE
BEGIN:VEVENT
DTSTART;TZID=America/Chicago:20260421T000000
DTEND;TZID=America/Chicago:20260423T235959
DTSTAMP:20260421T052919
CREATED:20260127T154419Z
LAST-MODIFIED:20260127T154419Z
UID:1193-1776729600-1776988799@smorrill.com
SUMMARY:House in Session
DESCRIPTION:
URL:https://smorrill.com/event/house-in-session-4/
END:VEVENT
BEGIN:VEVENT
DTSTART;TZID=America/Chicago:20260422T100000
DTEND;TZID=America/Chicago:20260422T100000
DTSTAMP:20260421T052919
CREATED:20260127T151535Z
LAST-MODIFIED:20260127T151606Z
UID:1131-1776852000-1776852000@smorrill.com
SUMMARY:City of Chicago Council Meeting
DESCRIPTION:
URL:https://smorrill.com/event/city-of-chicago-council-meeting-6/
END:VEVENT
BEGIN:VEVENT
DTSTART;TZID=America/Chicago:20260428T000000
DTEND;TZID=America/Chicago:20260430T235959
DTSTAMP:20260421T052919
CREATED:20260127T154441Z
LAST-MODIFIED:20260127T154441Z
UID:1195-1777334400-1777593599@smorrill.com
SUMMARY:Senate in Session
DESCRIPTION:
URL:https://smorrill.com/event/senate-in-session-4/
END:VEVENT
END:VCALENDAR